BEGIN:VCALENDAR
VERSION:2.0
PRODID:-//rooster/egg//NONSGML v1.0//EN
BEGIN:VTIMEZONE
TZID:Pacific/Auckland
TZURL:http://tzurl.org/zoneinfo-outlook/Pacific/Auckland
X-LIC-LOCATION:Pacific/Auckland
BEGIN:DAYLIGHT
TZOFFSETFROM:+1200
TZOFFSETTO:+1300
TZNAME:NZDT
DTSTART:19700927T020000
RRULE:FREQ=YEARLY;BYMONTH=9;BYDAY=-1SU
END:DAYLIGHT
BEGIN:STANDARD
TZOFFSETFROM:+1300
TZOFFSETTO:+1200
TZNAME:NZST
DTSTART:19700405T030000
RRULE:FREQ=YEARLY;BYMONTH=4;BYDAY=1SU
END:STANDARD
END:VTIMEZONE
BEGIN:VEVENT
ORGANIZER:Kristi-Lea Cliff:mailto:diagnosis@autismnz.org.nz
DTSTART:20230501T084500
DTEND:20230509T130000
LOCATION:Zoom (online sessions), Link to be provided, N/A
SEQUENCE:0
UID:edd37ecf6d11cc85c15528e1e820cca6autismnz.org.nz
DTSTAMP:20260420T051533Z
DESCRIPTION:PLEASE ARRIVE AT THE TIME SPECIFIED ABOVE. END TIMES ARE APPROXIMATE.\nCheck your own booking details carefully.  You may or may not be enrolled for all options in this course. - diagnosis@autismnz.org.nz - https://book.autismnz.org.nz/event?id=451
SUMMARY:ADOS-2 Introductory Workshop - Autism Diagnosis Professional Development
END:VEVENT
END:VCALENDAR